BEGIN:VCALENDAR
VERSION:2.0
PRODID:-//TAE Teatro - ECPv6.15.20//NONSGML v1.0//EN
CALSCALE:GREGORIAN
METHOD:PUBLISH
X-WR-CALNAME:TAE Teatro
X-ORIGINAL-URL:https://taeteatro.com
X-WR-CALDESC:Eventi per TAE Teatro
REFRESH-INTERVAL;VALUE=DURATION:PT1H
X-Robots-Tag:noindex
X-PUBLISHED-TTL:PT1H
BEGIN:VTIMEZONE
TZID:Europe/Rome
BEGIN:DAYLIGHT
TZOFFSETFROM:+0100
TZOFFSETTO:+0200
TZNAME:CEST
DTSTART:20240331T010000
END:DAYLIGHT
BEGIN:STANDARD
TZOFFSETFROM:+0200
TZOFFSETTO:+0100
TZNAME:CET
DTSTART:20241027T010000
END:STANDARD
BEGIN:DAYLIGHT
TZOFFSETFROM:+0100
TZOFFSETTO:+0200
TZNAME:CEST
DTSTART:20250330T010000
END:DAYLIGHT
BEGIN:STANDARD
TZOFFSETFROM:+0200
TZOFFSETTO:+0100
TZNAME:CET
DTSTART:20251026T010000
END:STANDARD
BEGIN:DAYLIGHT
TZOFFSETFROM:+0100
TZOFFSETTO:+0200
TZNAME:CEST
DTSTART:20260329T010000
END:DAYLIGHT
BEGIN:STANDARD
TZOFFSETFROM:+0200
TZOFFSETTO:+0100
TZNAME:CET
DTSTART:20261025T010000
END:STANDARD
END:VTIMEZONE
BEGIN:VEVENT
DTSTART;TZID=Europe/Rome:20251122T203000
DTEND;TZID=Europe/Rome:20251122T211500
DTSTAMP:20260420T150903
CREATED:20250902T162358Z
LAST-MODIFIED:20260130T162655Z
UID:10000146-1763843400-1763846100@taeteatro.com
SUMMARY:Lettere: Sfumature di donna
DESCRIPTION:
URL:https://taeteatro.com/evento/lettere-sfumature-di-donna-22-11-2025/
LOCATION:Auditorium Carobbio degli Angeli\, Via Campolungo\, Carobbio degli Angeli\, 24060\, Italia
CATEGORIES:Spettacolo
ATTACH;FMTTYPE=image/jpeg:https://taeteatro.com/wp-content/uploads/lettere2025-1.jpg
ORGANIZER;CN="TAE Teatro":MAILTO:info@taeteatro.com
END:VEVENT
BEGIN:VEVENT
DTSTART;TZID=Europe/Rome:20251123T103000
DTEND;TZID=Europe/Rome:20251123T110000
DTSTAMP:20260420T150903
CREATED:20251114T160624Z
LAST-MODIFIED:20251114T161910Z
UID:10000164-1763893800-1763895600@taeteatro.com
SUMMARY:Il coraggio di parlare
DESCRIPTION:in collaborazione con Il Consiglio delle Donne di Trevigliodomenica 23 novembre alle ore 10:30 in piazza garibaldi Treviglioparteciperemo come TAE\, tutti gli uomini del tae sono invitati a parteciparee a divulgare l’iniziativa
URL:https://taeteatro.com/evento/il-coraggio-di-parlare-23-11-2025/
LOCATION:Casa del Teatro\, Via Marco Polo 34\, Treviglio\, 24047\, Italia
CATEGORIES:Spettacolo
ATTACH;FMTTYPE=image/jpeg:https://taeteatro.com/wp-content/uploads/mani-donne-angela-passoni.jpg
ORGANIZER;CN="TAE Teatro":MAILTO:info@taeteatro.com
END:VEVENT
END:VCALENDAR