BEGIN:VCALENDAR
VERSION:2.0
PRODID:-//TAE Teatro - ECPv6.15.20//NONSGML v1.0//EN
CALSCALE:GREGORIAN
METHOD:PUBLISH
X-WR-CALNAME:TAE Teatro
X-ORIGINAL-URL:https://taeteatro.com
X-WR-CALDESC:Eventi per TAE Teatro
REFRESH-INTERVAL;VALUE=DURATION:PT1H
X-Robots-Tag:noindex
X-PUBLISHED-TTL:PT1H
BEGIN:VTIMEZONE
TZID:Europe/Rome
BEGIN:DAYLIGHT
TZOFFSETFROM:+0100
TZOFFSETTO:+0200
TZNAME:CEST
DTSTART:20240331T010000
END:DAYLIGHT
BEGIN:STANDARD
TZOFFSETFROM:+0200
TZOFFSETTO:+0100
TZNAME:CET
DTSTART:20241027T010000
END:STANDARD
BEGIN:DAYLIGHT
TZOFFSETFROM:+0100
TZOFFSETTO:+0200
TZNAME:CEST
DTSTART:20250330T010000
END:DAYLIGHT
BEGIN:STANDARD
TZOFFSETFROM:+0200
TZOFFSETTO:+0100
TZNAME:CET
DTSTART:20251026T010000
END:STANDARD
BEGIN:DAYLIGHT
TZOFFSETFROM:+0100
TZOFFSETTO:+0200
TZNAME:CEST
DTSTART:20260329T010000
END:DAYLIGHT
BEGIN:STANDARD
TZOFFSETFROM:+0200
TZOFFSETTO:+0100
TZNAME:CET
DTSTART:20261025T010000
END:STANDARD
END:VTIMEZONE
BEGIN:VEVENT
DTSTART;TZID=Europe/Rome:20250911T163000
DTEND;TZID=Europe/Rome:20250911T170000
DTSTAMP:20260420T151948
CREATED:20250816T215608Z
LAST-MODIFIED:20250822T130027Z
UID:10000077-1757608200-1757610000@taeteatro.com
SUMMARY:Mr jard
DESCRIPTION:
URL:https://taeteatro.com/evento/mr-jard-11-09-2025/
LOCATION:Biblioteca bambini e ragazzi Treviglio\, Via Locatelli\, Treviglio\, 24047\, Italia
CATEGORIES:Spettacolo,Treviglio Cultura
ATTACH;FMTTYPE=image/jpeg:https://taeteatro.com/wp-content/uploads/jard-2023-3.jpg
ORGANIZER;CN="TAE Teatro":MAILTO:info@taeteatro.com
END:VEVENT
BEGIN:VEVENT
DTSTART;TZID=Europe/Rome:20250920T183000
DTEND;TZID=Europe/Rome:20250920T191500
DTSTAMP:20260420T151948
CREATED:20250822T130546Z
LAST-MODIFIED:20260202T201257Z
UID:10000123-1758393000-1758395700@taeteatro.com
SUMMARY:La signora caramella
DESCRIPTION:
URL:https://taeteatro.com/evento/la-signora-caramella-20-09-2025/
LOCATION:Parco del Roccolo\, Via del Bosco\, 72\, Treviglio\, 24047\, Italia
CATEGORIES:Familyper,Spettacolo
ATTACH;FMTTYPE=image/jpeg:https://taeteatro.com/wp-content/uploads/signora-caramella1.jpg
ORGANIZER;CN="TAE Teatro":MAILTO:info@taeteatro.com
END:VEVENT
END:VCALENDAR