BEGIN:VCALENDAR
VERSION:2.0
PRODID:-//TAE Teatro - ECPv6.15.20//NONSGML v1.0//EN
CALSCALE:GREGORIAN
METHOD:PUBLISH
X-WR-CALNAME:TAE Teatro
X-ORIGINAL-URL:https://taeteatro.com
X-WR-CALDESC:Eventi per TAE Teatro
REFRESH-INTERVAL;VALUE=DURATION:PT1H
X-Robots-Tag:noindex
X-PUBLISHED-TTL:PT1H
BEGIN:VTIMEZONE
TZID:Europe/Rome
BEGIN:DAYLIGHT
TZOFFSETFROM:+0100
TZOFFSETTO:+0200
TZNAME:CEST
DTSTART:20220327T010000
END:DAYLIGHT
BEGIN:STANDARD
TZOFFSETFROM:+0200
TZOFFSETTO:+0100
TZNAME:CET
DTSTART:20221030T010000
END:STANDARD
BEGIN:DAYLIGHT
TZOFFSETFROM:+0100
TZOFFSETTO:+0200
TZNAME:CEST
DTSTART:20230326T010000
END:DAYLIGHT
BEGIN:STANDARD
TZOFFSETFROM:+0200
TZOFFSETTO:+0100
TZNAME:CET
DTSTART:20231029T010000
END:STANDARD
BEGIN:DAYLIGHT
TZOFFSETFROM:+0100
TZOFFSETTO:+0200
TZNAME:CEST
DTSTART:20240331T010000
END:DAYLIGHT
BEGIN:STANDARD
TZOFFSETFROM:+0200
TZOFFSETTO:+0100
TZNAME:CET
DTSTART:20241027T010000
END:STANDARD
END:VTIMEZONE
BEGIN:VEVENT
DTSTART;TZID=Europe/Rome:20231125T210000
DTEND;TZID=Europe/Rome:20231125T210000
DTSTAMP:20260422T075923
CREATED:20231120T145645Z
LAST-MODIFIED:20231120T151433Z
UID:10000025-1700946000-1700946000@taeteatro.com
SUMMARY:Sarebbe stato interessante
DESCRIPTION:Lo spettacolo parla di desiderio di maternità\, biologica e non\, parla di successi e fallimenti\, del percorso della pma\, procreazione medicalmente assistita\, parla della perdita\, e del ritrovarsi\, e infine tocca il mondo delle altre forme di genitorialità. Tutti questi temi sono sviluppati attraversando due paesaggi: quello della madre terra\, paesaggio naturale con le sue regole e i suoi cicli e quello del corpo femminile\, paesaggio umano con le sue emozioni e mutamenti. La coltivazione di un orto diventa la giusta metafora per parlare del mistero della creazione\, un luogo selvaggio dellanima\, un centro in cui tutto confluisce. Le parole\, i silenzi e le azioni proposte nello spettacolo indagano i limiti e le possibilità del corpo di incontrare e affrontare anche il dolore. \nSarebbe stato interessante vuole essere per tutte le persone implicate nel progetto\, dalle persone intervistate al pubblico che incontrerà lo spettacolo\, un atto curativo\, quasi psicomagico\, come direbbe jodorowsky\, per riscoprire la meraviglia della vita attraverso la condivisione di un atto di creazione universale come e il rito del teatro. La condivisione diretta in un cerchio\, di un materiale di ricerca cosi universale come il desiderio di generare\, rendere di tutte e tutti questo tema\, allapparenza cosi intimo e privato\, e lidea di sarebbe stato interessante. Lavorare sul materiale letterario e sulle interviste nel cerchio di sedie lo rende ancora piu personale ed emotivo. \nSarebbe stato interessante è un cerchio di persone che si guardano negli occhi e condividono il pensiero della corifea/attrice che attraversa diversi personaggi (eroi o antieroi\, eroine o antieroine) per portare il tutto a chi lo guarda\, a chi assiste. Dal grottesco al iperrealismo\, in un viaggio tragicomico che accompagna lo spettatore o la spettatrice da qualcosa di lontano da se a qualcosa di molto vicino. Da fuori a dentro. \n\nCon: Matilde Facheris\nDramaturg e curatrice dei testi: Giulia Tolliss\nDrammaturgia: Marcela Serli\nRegia: Marcela Serli\n\nINFORMAZIONI \n\nIngresso gratuito con tessera TAE teatro fino ad esaurimento posti (max 50 posti\, è possibile sottoscrivere la tessera in loco a 3\,00)\nprenotazione obbligatoria con whatsapp o sms al numero: 3497282113\nOrganizzazione: Nuvole In Viaggio
URL:https://taeteatro.com/evento/sarebbe-stato-interessante-25-11-2023/
CATEGORIES:Spettacolo
END:VEVENT
END:VCALENDAR