BEGIN:VCALENDAR
VERSION:2.0
PRODID:-//TAE Teatro - ECPv6.15.20//NONSGML v1.0//EN
CALSCALE:GREGORIAN
METHOD:PUBLISH
X-WR-CALNAME:TAE Teatro
X-ORIGINAL-URL:https://taeteatro.com
X-WR-CALDESC:Eventi per TAE Teatro
REFRESH-INTERVAL;VALUE=DURATION:PT1H
X-Robots-Tag:noindex
X-PUBLISHED-TTL:PT1H
BEGIN:VTIMEZONE
TZID:Europe/Rome
BEGIN:DAYLIGHT
TZOFFSETFROM:+0100
TZOFFSETTO:+0200
TZNAME:CEST
DTSTART:20220327T010000
END:DAYLIGHT
BEGIN:STANDARD
TZOFFSETFROM:+0200
TZOFFSETTO:+0100
TZNAME:CET
DTSTART:20221030T010000
END:STANDARD
BEGIN:DAYLIGHT
TZOFFSETFROM:+0100
TZOFFSETTO:+0200
TZNAME:CEST
DTSTART:20230326T010000
END:DAYLIGHT
BEGIN:STANDARD
TZOFFSETFROM:+0200
TZOFFSETTO:+0100
TZNAME:CET
DTSTART:20231029T010000
END:STANDARD
BEGIN:DAYLIGHT
TZOFFSETFROM:+0100
TZOFFSETTO:+0200
TZNAME:CEST
DTSTART:20240331T010000
END:DAYLIGHT
BEGIN:STANDARD
TZOFFSETFROM:+0200
TZOFFSETTO:+0100
TZNAME:CET
DTSTART:20241027T010000
END:STANDARD
END:VTIMEZONE
BEGIN:VEVENT
DTSTART;TZID=Europe/Rome:20230305T210000
DTEND;TZID=Europe/Rome:20230305T210000
DTSTAMP:20260422T213938
CREATED:20231115T114104Z
LAST-MODIFIED:20250902T162806Z
UID:10000016-1678050000-1678050000@taeteatro.com
SUMMARY:Lettere: Sfumature di donna
DESCRIPTION:In un surreale ufficio postale\, tre improbabili addetti allo smistamento incappano in una moltitudine di lettere che hanno come argomento il mondo femminile. Lettere che mai sono state lette ma che hanno tutto il diritto e la volontà di essere aperte\, assaporate e vissute. In un incrocio di situazioni tra il comico e il faceto\, senza tralasciare la drammaticità\, gli strampalati protagonisti troveranno il modo per dar voce e suono a tutte queste sfumature di donne. \n\nCon: Daniela Arzuffi\, Nicola Iannaccio\, Stefano Ulivieri\nRegia: TAE Teatro\, Lele Gaballo\n\nINFORMAZIONI \n\nPer gli eventi presso la nostra sede è richiesta la tessera socio annuale (Є3\,00).\nIngresso singolo: Є10\,00 + Є3\,00 tessera TAE\nOltre i 65 anni: Є7\,00 + Є3\,00 tessera TAE\nTra 13 e 18 anni: Є7\,00\nSotto i 12 anni: Є5\,00\nDiversamente abili e accompagnatore: gratis\nCorsi di teatro TAE: Є5\,00\n\nPRENOTAZIONI \nÈ consigliata la prenotazione secondo le seguenti modalità: \n\nInviando una email a info@taeteatro.com\nWhatsapp al numero 3402553783\nOn-line sulla pagina www.taeteatro.com/prenotazioni
URL:https://taeteatro.com/evento/lettere-15-11-2023/
CATEGORIES:BGBS2023,Spettacolo
END:VEVENT
END:VCALENDAR