BEGIN:VCALENDAR
VERSION:2.0
PRODID:-//TAE Teatro - ECPv6.15.20//NONSGML v1.0//EN
CALSCALE:GREGORIAN
METHOD:PUBLISH
X-ORIGINAL-URL:https://taeteatro.com
X-WR-CALDESC:Eventi per TAE Teatro
REFRESH-INTERVAL;VALUE=DURATION:PT1H
X-Robots-Tag:noindex
X-PUBLISHED-TTL:PT1H
BEGIN:VTIMEZONE
TZID:Europe/Rome
BEGIN:DAYLIGHT
TZOFFSETFROM:+0100
TZOFFSETTO:+0200
TZNAME:CEST
DTSTART:20220327T010000
END:DAYLIGHT
BEGIN:STANDARD
TZOFFSETFROM:+0200
TZOFFSETTO:+0100
TZNAME:CET
DTSTART:20221030T010000
END:STANDARD
BEGIN:DAYLIGHT
TZOFFSETFROM:+0100
TZOFFSETTO:+0200
TZNAME:CEST
DTSTART:20230326T010000
END:DAYLIGHT
BEGIN:STANDARD
TZOFFSETFROM:+0200
TZOFFSETTO:+0100
TZNAME:CET
DTSTART:20231029T010000
END:STANDARD
BEGIN:DAYLIGHT
TZOFFSETFROM:+0100
TZOFFSETTO:+0200
TZNAME:CEST
DTSTART:20240331T010000
END:DAYLIGHT
BEGIN:STANDARD
TZOFFSETFROM:+0200
TZOFFSETTO:+0100
TZNAME:CET
DTSTART:20241027T010000
END:STANDARD
END:VTIMEZONE
BEGIN:VEVENT
DTSTART;TZID=Europe/Rome:20230204T210000
DTEND;TZID=Europe/Rome:20230204T210000
DTSTAMP:20260422T233654
CREATED:20231115T114104Z
LAST-MODIFIED:20250711T083433Z
UID:10000094-1675544400-1675544400@taeteatro.com
SUMMARY:Arlecchino Diavolo Buffo
DESCRIPTION:ARLECCHINO DIAVOLO BUFFO\ndi e con EUGENIO ISAAC DE’GIORGI \nUno spettacolo teatrale che unisce gesto\, parola e musica. Arlecchino diavolo buffo\, è una narrazione\, una giullarata\, un’affabulazione sul personaggio\, dallo Zanni al Ruzante\, dall’Arlecchino seicentesco a quello nuovo di De’ Giorgi\, senza maschera\, istrione contemporaneo\, un diavolo buffo. Un maestro della Commedia dell’Arte\, consacrato dalla critica come l’erede spirituale di Dario Fo. \nSette secoli di avventure prodigiose\, una lunga favola senza fine. Il personaggio nasce\, muta\, si evolve\, cresce\, prorompe in un fantasmagorico fuoco d’artificio\, entrando nella storia\, ormai immortale. Giunto a noi da un tempo senza tempo\, Arlecchino ci insegna che\, in fondo\, in ognuno noi c’e un po’ di Arlecchino: siamo tutti\, ancora oggi\, figli della Commedia dell’Arte\, interpreti tutti dell’arte della commedia della vita. \nE uno spettacolo allegro\, divertente\, comicissimo\, ricco di battute\, di lazzi\, di atteggiamenti mimici\, di musica e canzoni\, di mutamenti di maschere\, di travestimenti in abiti femminili\, di giochi\, di parole\, di “grammelot”\, di sghignazzi: il tutto derivato direttamente da quella Commedia dell’Arte\, che ha fatto conoscere e trionfare la tradizione teatrale italiana in tutto il mondo. \nINGRESSO CON TESSERA TAE TEATRO \n\nFino ad esaurimento posti (sara possibile sottoscriverla in loco a 3€)\nCONTRIBUTO ATTIVITÀ SOCIALE 10€\n\nPRENOTAZIONE CONSIGLIATA \n\nwww.taeteatro.com/prenotazioni\nTel/WhatsApp: 340 255 3783\nEmail: info@taeteatro.com\n\nAdobe Photoshop Pdf
URL:https://taeteatro.com/evento/arlecchino-diavolo-buffo/
CATEGORIES:BGBS2023,Spettacolo
END:VEVENT
END:VCALENDAR