BEGIN:VCALENDAR
VERSION:2.0
PRODID:-//TAE Teatro - ECPv6.15.20//NONSGML v1.0//EN
CALSCALE:GREGORIAN
METHOD:PUBLISH
X-WR-CALNAME:TAE Teatro
X-ORIGINAL-URL:https://taeteatro.com
X-WR-CALDESC:Eventi per TAE Teatro
REFRESH-INTERVAL;VALUE=DURATION:PT1H
X-Robots-Tag:noindex
X-PUBLISHED-TTL:PT1H
BEGIN:VTIMEZONE
TZID:Europe/Rome
BEGIN:DAYLIGHT
TZOFFSETFROM:+0100
TZOFFSETTO:+0200
TZNAME:CEST
DTSTART:20210328T010000
END:DAYLIGHT
BEGIN:STANDARD
TZOFFSETFROM:+0200
TZOFFSETTO:+0100
TZNAME:CET
DTSTART:20211031T010000
END:STANDARD
BEGIN:DAYLIGHT
TZOFFSETFROM:+0100
TZOFFSETTO:+0200
TZNAME:CEST
DTSTART:20220327T010000
END:DAYLIGHT
BEGIN:STANDARD
TZOFFSETFROM:+0200
TZOFFSETTO:+0100
TZNAME:CET
DTSTART:20221030T010000
END:STANDARD
BEGIN:DAYLIGHT
TZOFFSETFROM:+0100
TZOFFSETTO:+0200
TZNAME:CEST
DTSTART:20230326T010000
END:DAYLIGHT
BEGIN:STANDARD
TZOFFSETFROM:+0200
TZOFFSETTO:+0100
TZNAME:CET
DTSTART:20231029T010000
END:STANDARD
END:VTIMEZONE
BEGIN:VEVENT
DTSTART;TZID=Europe/Rome:20220903T210000
DTEND;TZID=Europe/Rome:20220903T210000
DTSTAMP:20260423T072015
CREATED:20231115T113833Z
LAST-MODIFIED:20251105T152608Z
UID:10000126-1662238800-1662238800@taeteatro.com
SUMMARY:Toponomastica
DESCRIPTION:TAE Teatro è lieto di ospitare\, nella propria rassegna VICOLI\, Marta Pistocchi e Alessandro Sicardi con lo spettacolo “Toponomastica” per la regia di Rita Pelusio. \nUn’immaginifica conferenza di i topi che analizzano con pungente ironia le regole e gli stili di vita delle nostre città\, e i vizi e le virtù degli umani che vi abitano. Lo sguardo dei nostri topi\, interpretati da Marta Pistocchi e Alessandro Sicardi\, è uno sguardo diverso\, laterale. La prospettava dal basso degli ultimi\, degli emarginati\, ma anche di quelli che vedono nei paesaggi urbani una possibilità infinita\, un laboratorio di socialità che può unire molto più che dividere. \nLo spettacolo nasce da un nucleo di canzoni originali scritte e composte da Marta Pistocchi\, violinista\, attrice e ispiratrice di questo progetto che si muove tra più linguaggi artistici: musica\, clown e narrazione teatrale.  Le sue canzoni non sono solo una riflessione ma anche un atto di amore verso la città. Ed è dalla medesima spinta\, al contempo intellettuale e emotiva\, che è stato modellato questo spettacolo in cui satira e poesia si mescolano con inaspettata freschezza. \n\nSpettacolo di teatro canzone clown\ncon Marta Pistocchi e Alessandro Sicardi\nRegia di Rita Pelusio\n\nSpettacolo Gratuito! \nCONTATTI \nComune di Rivolta d’Adda \n\nTel. 036337701\nE-mail: comune@comune.rivoltadadda.cr.it\nSito web: www.comune.rivoltadadda.cr.it
URL:https://taeteatro.com/evento/toponomastica/
CATEGORIES:Rassegne Teatrali,Spettacolo,Vicoli
END:VEVENT
BEGIN:VEVENT
DTSTART;TZID=Europe/Rome:20220909T210000
DTEND;TZID=Europe/Rome:20220909T213000
DTSTAMP:20260423T072015
CREATED:20231115T113833Z
LAST-MODIFIED:20251105T152603Z
UID:10000121-1662757200-1662759000@taeteatro.com
SUMMARY:Eva\, diario di una costola
DESCRIPTION:Ispirata al Diario di Eva (1906) di Mark Twain\, Eva è una figura molto lontana dall’immagine della bella\, bionda e ingenua alla quale l’iconografia classica della donna ci ha abituati. Un fool irriverente che si trova alle prese\, prima della storia\, con la più grande scelta dell’umanità: accettare le regole o disubbidire. Una trasgressione all’insegna della scoperta\, di cui la mela è simbolo: morderla o non morderla?In un misto di consapevolezza e disincanto\, Eva si chiede che cosa succederà dopo\, proiettandosi nella contemporaneità delle donne di oggi. Umane nella loro imperfezione queste donne raccontano il coraggio di chi ogni giorno combatte per la propria felicità.Perché la diversità manda avanti il mondo.Perché il paradiso sarà pur perfetto\, ma la vita è tutta un’altra cosa. Ad impreziosire ulteriormente\, l’inedito accompagnamento musicale della simpatica e virtuosa violinista Marta Pistocchi. \n\nCon: Rita Pelusio\nAccompagnamento musicale: Marta Pistocchi\nRegia: Marco Rampoldi\nDi: Rita Pelusio\, Alessandra Faiella\, Marianna Stefanucci e Riccardo Piferi\nProduzione PEM Habitat Teatrali\n\nINFORMAZIONI \n\nEvento gratuito\nCortile Ex Stalla di Palazzo Celesia – Via S.Alberto 27 – Rivolta d’Addda (Cr)\nIn caso di pioggia si terrà presso la sala papa giovanni XXIII prsso il Centro Socio-Culturale “La Chiocciola” in Via S. Renzi 5\n\nCONTATTI \n\nOfficine Creative\nwww.comefiumechescorre.it\ninfo@comefiumechescorre.it\nComune di Rivolta d’Adda\nwww.comune.rivoltadadda.cr.it\ncomune@comune.rivoltadadda.cr.it
URL:https://taeteatro.com/evento/eva-diario-di-una-costola/
CATEGORIES:Rassegne Teatrali,Spettacolo,Vicoli
END:VEVENT
BEGIN:VEVENT
DTSTART;TZID=Europe/Rome:20220910T173000
DTEND;TZID=Europe/Rome:20220910T173000
DTSTAMP:20260423T072015
CREATED:20231115T114104Z
LAST-MODIFIED:20251105T152559Z
UID:10000112-1662831000-1662831000@taeteatro.com
SUMMARY:Caravan Orkestar
DESCRIPTION:caraLa Caravan Orkestar propone nel proprio repertorio musiche arrangiate principalmente secondo lo stile delle fanfare balcaniche. Lo stile e le musiche di Goran Bregovic ed Emir kusturiza fanno da cornice a brani tratti dal repertorio ebraico popolare nello stile klezmer. La ricerca del repertorio musicale spazia\, secondo lo spirito e il nome stesso del gruppo\, in differenti paesi e generi musicali per rappresentare idealmente l’itinerario di una carovana nei diversi aspetti sociali e culturali del mondo\, dove\, la musica popolare rappresenta nel modo migliore\, vita e usanze delle diverse popolazioni che vi abitano. Trombe\, tromboni\, sassofoni\, clarinetti e percussioni daranno vita ad una festa balcanica-slava-ebraica in perfetto stile Kusturica tutto da ballare!!!! \nINFORMAZIONI \n\nEvento gratuito\nItinerante\, partenza da Villa Borgazzi angolo Vie Leoncavallo-Ponte Vecchio-G.Verdi\nIn caso di pioggia l’evento verrà annullato\n\nCONTATTI \n\nOfficine Creative\nwww.comefiumechescorre.it\ninfo@comefiumechescorre.it\nComune di Rivolta d’Adda\nwww.comune.rivoltadadda.cr.it\ncomune@comune.rivoltadadda.cr.it
URL:https://taeteatro.com/evento/caravan-orkestar/
CATEGORIES:Rassegne Teatrali,Spettacolo,Vicoli
END:VEVENT
BEGIN:VEVENT
DTSTART;TZID=Europe/Rome:20220910T183000
DTEND;TZID=Europe/Rome:20220910T183000
DTSTAMP:20260423T072015
CREATED:20231115T114104Z
LAST-MODIFIED:20251105T152552Z
UID:10000001-1662834600-1662834600@taeteatro.com
SUMMARY:Zitto zitto
DESCRIPTION:Un comico personaggio si aggira per le strade: pedalando una valigia\, con dei copertoni a tracolla\, apre il suo baule nel quale sono racchiusi tutti gli ingredienti dello spettacolo. Zitto zitto crea il cerchio\, coinvolge il pubblico\, fa danzare scope e lancia bottiglie\, trasforma bauli e cavalca giraffe\, gioca col fuoco ma non si scotta\, e sulla sua sfera rotola via.Con copertoni tirati in cielo come fuochi d’artificio saluta la gente\, chiude il suo baule e riprende la strada\, zitto\, zitto! Uno spettacolo di Teatro di Strada che colpisce per originalità\, comicità e poesia. \n\ndi e con: Claudio Cremonesi\n\nINFORMAZIONI \n\nEvento gratuito\nSassone del Ponte Vecchio: Ingresso Parco Adda Sud\, Alla fine di Viale Ponte Vecchio – Rivolta d’Addda (Cr)\nIn caso di pioggia l’evento verrà annullato\n\nCONTATTI \n\nOfficine Creative\nwww.comefiumechescorre.it\ninfo@comefiumechescorre.it\nComune di Rivolta d’Adda\nwww.comune.rivoltadadda.cr.it\ncomune@comune.rivoltadadda.cr.it
URL:https://taeteatro.com/evento/zitto-zitto/
CATEGORIES:Rassegne Teatrali,Spettacolo,Vicoli
END:VEVENT
BEGIN:VEVENT
DTSTART;TZID=Europe/Rome:20220910T210000
DTEND;TZID=Europe/Rome:20220910T210000
DTSTAMP:20260423T072015
CREATED:20231115T114104Z
LAST-MODIFIED:20251105T152547Z
UID:10000120-1662843600-1662843600@taeteatro.com
SUMMARY:Circus follies
DESCRIPTION:Un eccentrico personaggio e la sua straordinaria assistente si esibiscono in una collezione di numeri dalle origini antiche\, ormai molto rari\, ricreati in forma originale\, leggera e auto ironica. Fondendo le tecniche della giocoleria\, dell’equilibrismo e della clownerie creano un’atmosfera di vaudeville surreale tra virtuosismi\, momenti ridicoli e sorprese inaspettate. Uno spettacolo frutto di una continua evoluzione del repertorio proposto\, con molti anni di repliche alle spalle\, che mira ad esplorare e raccontare lo stile\, elegante ed eccezionale\, delle Follies adattandolo al linguaggio del circo contemporaneo. \n\ndi e con: Jacopo Candeloro (Roma\, Italia) e Flor Luludì (Patagonia\, Argentina)\n\nINFORMAZIONI \n\nEvento gratuito\nArea Verde di Via Turati – Rivolta d’Addda (Cr)\nIn caso di pioggia l’evento verrà annullato\n\nCONTATTI \n\nOfficine Creative\nwww.comefiumechescorre.it\ninfo@comefiumechescorre.it\nComune di Rivolta d’Adda\nwww.comune.rivoltadadda.cr.it\ncomune@comune.rivoltadadda.cr.it
URL:https://taeteatro.com/evento/circus-follies/
CATEGORIES:Rassegne Teatrali,Spettacolo,Vicoli
END:VEVENT
BEGIN:VEVENT
DTSTART;TZID=Europe/Rome:20220911T173000
DTEND;TZID=Europe/Rome:20220911T173000
DTSTAMP:20260423T072015
CREATED:20231115T113833Z
LAST-MODIFIED:20251105T152541Z
UID:10000119-1662917400-1662917400@taeteatro.com
SUMMARY:Son tutte palle
DESCRIPTION:La vita davanti alla televisione e la sua influenza sulle abitudini delle persone anziane\, orologio che ne regola la vita attraverso la scansione del palinsesto\, che li ipnotizza\, rendendoli passivi e dipendenti. Il condizionamento di vita che diventa totale al punto da essere proiezione delle loro vite\, sogno da realizzare\, ricordo di qualcosa che si sarebbe voluto essere. Attraverso giocoleria\, danza e acrobatica\, Chalibares è tutto un susseguirsi di attimi di poesia e comicità! \n\ndi e con: Alice Lombardi e Andre Schlein\n\nINFORMAZIONI \n\nEvento gratuito\nCircolo Arci “Il Sole”\, Via Garibaldi 8 – Rivolta d’Addda (Cr)\nIn caso di pioggia l’evento verrà annullato\n\nCONTATTI \n\nOfficine Creative\nwww.comefiumechescorre.it\ninfo@comefiumechescorre.it\nComune di Rivolta d’Adda\nwww.comune.rivoltadadda.cr.it\ncomune@comune.rivoltadadda.cr.it
URL:https://taeteatro.com/evento/son-tutte-palle/
CATEGORIES:Rassegne Teatrali,Spettacolo,Vicoli
END:VEVENT
BEGIN:VEVENT
DTSTART;TZID=Europe/Rome:20220911T210000
DTEND;TZID=Europe/Rome:20220911T220000
DTSTAMP:20260423T072015
CREATED:20231115T113833Z
LAST-MODIFIED:20251105T152536Z
UID:10000118-1662930000-1662933600@taeteatro.com
SUMMARY:Anche per oggi non si muore - Lo strano caso del Signor G
DESCRIPTION:Nato dalla mente e dal corpo di Giorgio Gaber\, con l’aiuto della penna di Sandro Luporini\, il “Signor G” è un uomo qualunque del nostro tempo\, pieno di contraddizioni e di ripensamenti\, di slanci e di frustrazioni\, di lucide intuizioni e di luoghi comuni.Un uomo che quanto più soffre tanto più è cosciente di non saper reagire alle regole di un mondo che lo imprigiona; ma ciononostante\, spesso annaspando\, si sforza di trovare un senso a questo suo vivere. Quella del “Signor G” potrebbe essere la storia di ognuno di noi. Raccontarla è anche un pretesto per guardarci dentro e per riflettere sulla società in cui viviamo. Lo spettacolo ripercorre oltre trent’anni di canzoni e monologhi che Gaber ha portato in scena nel suo “teatro-canzone”. \nIl “Signor G” che\, orfano del suo autore (come uno dei sei personaggi di Pirandello)\, decide di porre fine a questa sua esistenza di fantasma; ma\, per uno strano scherzo del destino\, dovrà farlo proprio lì dove oltre cinquant’anni prima è nato\, ovvero su un palcoscenico e dopo aver raccontato a un pubblico la sua storia. Si aggira pertanto per i teatri\, ovunque si stia tenendo una rappresentazione\, con l’intenzione di intromettersi e di portare a termine il proprio proposito. \n\nCon: Stefano Orlandi\, Massimo Betti (chitarra)\, Stefano Fascioli (contrabbasso)\nRegia: Omar Nedjari\nProduzione: ATIR Ringhiera\n\nINFORMAZIONI \n\nEvento gratuito\nCortile Centro Socio-Culturale “La Chiocciola”Via S. Renzi 5  – Rivolta d’Addda (Cr)\nIn caso di pioggia si terrà presso la sala Papa giovanni XXIII presso il Centro Socio-Culturale “La Chiocciola” in Via S. Renzi 5\n\nCONTATTI \n\nOfficine Creative\nwww.comefiumechescorre.it\ninfo@comefiumechescorre.it\nComune di Rivolta d’Adda\nwww.comune.rivoltadadda.cr.it\ncomune@comune.rivoltadadda.cr.it
URL:https://taeteatro.com/evento/anche-per-oggi-non-si-muore-lo-strano-caso-del-signor-g/
CATEGORIES:Rassegne Teatrali,Spettacolo,Vicoli
END:VEVENT
END:VCALENDAR