BEGIN:VCALENDAR
VERSION:2.0
PRODID:-//TAE Teatro - ECPv6.15.20//NONSGML v1.0//EN
CALSCALE:GREGORIAN
METHOD:PUBLISH
X-WR-CALNAME:TAE Teatro
X-ORIGINAL-URL:https://taeteatro.com
X-WR-CALDESC:Eventi per TAE Teatro
REFRESH-INTERVAL;VALUE=DURATION:PT1H
X-Robots-Tag:noindex
X-PUBLISHED-TTL:PT1H
BEGIN:VTIMEZONE
TZID:Europe/Rome
BEGIN:DAYLIGHT
TZOFFSETFROM:+0100
TZOFFSETTO:+0200
TZNAME:CEST
DTSTART:20210328T010000
END:DAYLIGHT
BEGIN:STANDARD
TZOFFSETFROM:+0200
TZOFFSETTO:+0100
TZNAME:CET
DTSTART:20211031T010000
END:STANDARD
BEGIN:DAYLIGHT
TZOFFSETFROM:+0100
TZOFFSETTO:+0200
TZNAME:CEST
DTSTART:20220327T010000
END:DAYLIGHT
BEGIN:STANDARD
TZOFFSETFROM:+0200
TZOFFSETTO:+0100
TZNAME:CET
DTSTART:20221030T010000
END:STANDARD
BEGIN:DAYLIGHT
TZOFFSETFROM:+0100
TZOFFSETTO:+0200
TZNAME:CEST
DTSTART:20230326T010000
END:DAYLIGHT
BEGIN:STANDARD
TZOFFSETFROM:+0200
TZOFFSETTO:+0100
TZNAME:CET
DTSTART:20231029T010000
END:STANDARD
END:VTIMEZONE
BEGIN:VEVENT
DTSTART;TZID=Europe/Rome:20220707T210000
DTEND;TZID=Europe/Rome:20220707T210000
DTSTAMP:20260423T103500
CREATED:20231115T113833Z
LAST-MODIFIED:20251105T152615Z
UID:10000125-1657227600-1657227600@taeteatro.com
SUMMARY:Clown in Libertà
DESCRIPTION:TAE Teatro è lieto di ospitare\, nella propria rassegna VICOLI\, Teatro Necessario con lo spettacolo “Clown in Libertà” \nQuesto spettacolo è un momento di euforia\, ricreazione e ritualità catartica per tre buffi\, simpatici e ‘talentuosi’ clown che paiono colti da un’eccitazione infantile all’idea di avere una scena ed un pubblico a loro completa disposizione. Senza un racconto enunciato e senza alcuno scambio di battute. \nClown in libertà racconta\, dunque\, il pomeriggio un po’ anomalo di tre clown che vogliono allestire uno spettacolo per divertire\, stupire ed infine conquistare\, abbracciare\, baciare il pubblico di passanti. Cercando con ogni mezzo di sorprenderlo\, a costo di prevaricarsi gli uni con gli altri\, di farsi vicendevoli dispetti finiranno per causare\, a volte\, il deragliamento dell’azione. Ecco quindi sequenze di mano a mano\, duelli al rallentatore\, intricati passaggi di giocoleria rubandosi ripetutamente di mano gli attrezzi\, e ancora evoluzioni e piramidi. \nLa musica è la vera colonna portante dell’azione e dello sviluppo narrativo; accompagna\, scandisce e ritma ogni segmento ed ogni azione. L’intero spettacolo risulta così come un grande\, unico e continuo viaggio musicale che non si interrompe ‘quasi’ mai\, nemmeno durante le acrobazie più impensabili. \n\ndi e con:\nLeonardo Adorni\nJacopo Maria Bianchini\nAlessandro Mori\n\nSpettacolo Gratuito! \nCONTATTI \nComune di Rivolta d’Adda \n\nTel. 036337701\nE-mail: comune@comune.rivoltadadda.cr.it\nSito web: www.comune.rivoltadadda.cr.it
URL:https://taeteatro.com/evento/clown-in-liberta/
CATEGORIES:Rassegne Teatrali,Spettacolo,Vicoli
END:VEVENT
END:VCALENDAR