BEGIN:VCALENDAR
VERSION:2.0
PRODID:-//TAE Teatro - ECPv6.15.20//NONSGML v1.0//EN
CALSCALE:GREGORIAN
METHOD:PUBLISH
X-ORIGINAL-URL:https://taeteatro.com
X-WR-CALDESC:Eventi per TAE Teatro
REFRESH-INTERVAL;VALUE=DURATION:PT1H
X-Robots-Tag:noindex
X-PUBLISHED-TTL:PT1H
BEGIN:VTIMEZONE
TZID:Europe/Rome
BEGIN:DAYLIGHT
TZOFFSETFROM:+0100
TZOFFSETTO:+0200
TZNAME:CEST
DTSTART:20250330T010000
END:DAYLIGHT
BEGIN:STANDARD
TZOFFSETFROM:+0200
TZOFFSETTO:+0100
TZNAME:CET
DTSTART:20251026T010000
END:STANDARD
BEGIN:DAYLIGHT
TZOFFSETFROM:+0100
TZOFFSETTO:+0200
TZNAME:CEST
DTSTART:20260329T010000
END:DAYLIGHT
BEGIN:STANDARD
TZOFFSETFROM:+0200
TZOFFSETTO:+0100
TZNAME:CET
DTSTART:20261025T010000
END:STANDARD
BEGIN:DAYLIGHT
TZOFFSETFROM:+0100
TZOFFSETTO:+0200
TZNAME:CEST
DTSTART:20270328T010000
END:DAYLIGHT
BEGIN:STANDARD
TZOFFSETFROM:+0200
TZOFFSETTO:+0100
TZNAME:CET
DTSTART:20271031T010000
END:STANDARD
END:VTIMEZONE
BEGIN:VEVENT
DTSTART;TZID=Europe/Rome:20260109T210000
DTEND;TZID=Europe/Rome:20260109T220000
DTSTAMP:20260421T133657
CREATED:20251127T125759Z
LAST-MODIFIED:20251211T164414Z
UID:10000166-1767992400-1767996000@taeteatro.com
SUMMARY:Artabàn - La leggenda del quarto re mago
DESCRIPTION:
URL:https://taeteatro.com/evento/artaban-la-leggenda-del-quarto-re-mago-09-01-2026/
LOCATION:Casa del Teatro\, Via Marco Polo 34\, Treviglio\, 24047\, Italia
CATEGORIES:Estemporanee
ATTACH;FMTTYPE=image/jpeg:https://taeteatro.com/wp-content/uploads/lello-cassinotti-artaban.jpg
ORGANIZER;CN="TAE Teatro":MAILTO:info@taeteatro.com
END:VEVENT
END:VCALENDAR