BEGIN:VCALENDAR
VERSION:2.0
PRODID:-//TAE Teatro - ECPv6.15.20//NONSGML v1.0//EN
CALSCALE:GREGORIAN
METHOD:PUBLISH
X-ORIGINAL-URL:https://taeteatro.com
X-WR-CALDESC:Eventi per TAE Teatro
REFRESH-INTERVAL;VALUE=DURATION:PT1H
X-Robots-Tag:noindex
X-PUBLISHED-TTL:PT1H
BEGIN:VTIMEZONE
TZID:Europe/Rome
BEGIN:DAYLIGHT
TZOFFSETFROM:+0100
TZOFFSETTO:+0200
TZNAME:CEST
DTSTART:20250330T010000
END:DAYLIGHT
BEGIN:STANDARD
TZOFFSETFROM:+0200
TZOFFSETTO:+0100
TZNAME:CET
DTSTART:20251026T010000
END:STANDARD
BEGIN:DAYLIGHT
TZOFFSETFROM:+0100
TZOFFSETTO:+0200
TZNAME:CEST
DTSTART:20260329T010000
END:DAYLIGHT
BEGIN:STANDARD
TZOFFSETFROM:+0200
TZOFFSETTO:+0100
TZNAME:CET
DTSTART:20261025T010000
END:STANDARD
BEGIN:DAYLIGHT
TZOFFSETFROM:+0100
TZOFFSETTO:+0200
TZNAME:CEST
DTSTART:20270328T010000
END:DAYLIGHT
BEGIN:STANDARD
TZOFFSETFROM:+0200
TZOFFSETTO:+0100
TZNAME:CET
DTSTART:20271031T010000
END:STANDARD
END:VTIMEZONE
BEGIN:VEVENT
DTSTART;TZID=Europe/Rome:20260327T070000
DTEND;TZID=Europe/Rome:20260327T230000
DTSTAMP:20260421T133421
CREATED:20260302T124635Z
LAST-MODIFIED:20260309T094923Z
UID:10000187-1774594800-1774652400@taeteatro.com
SUMMARY:Giornata internazionale del teatro
DESCRIPTION:La Giornata Mondiale del Teatro si celebra ogni anno il 27 marzo ed è dedicata alla valorizzazione dell’arte teatrale in tutte le sue forme. Fu istituita nel 1961 dall’International Theatre Institute (ITI)\, organismo fondato su iniziativa dell’UNESCO per promuovere la cooperazione culturale internazionale. La prima celebrazione è datata 1962. Da allora\, ogni anno una figura di rilievo del panorama teatrale mondiale è invitata a scrivere un Messaggio Internazionale\, tradotto e diffuso in numerosi Paesi. \nLa ricorrenza intende ricordare il valore del teatro come strumento di dialogo tra culture\, spazio di riflessione collettiva e luogo di incontro tra artista e comunità. Dalle tragedie dell’antica Grecia alle sperimentazioni contemporanee\, il teatro ha sempre rappresentato uno specchio della società. Il 27 marzo diventa così non solo una celebrazione\, ma un momento per riaffermare la centralità della scena come esperienza viva e condivisa. \nL’AUTORE 2026 \nWillem Dafoe\, attore americano\, è Direttore Artistico del Dipartimento Teatro della Biennale di Venezia\, è stato tra i membri fondatori del The Wooster Group. Con sede presso il Performing Garage di New York (1977–2004)\, il gruppo ha sviluppato un approccio distintivo al teatro d’avanguardia. Successivamente ha collaborato con Bob Wilson\, Marina Abramović\, Richard Foreman e Romeo Castellucci. All’inizio degli anni Ottanta ha iniziato a lavorare anche nel cinema\, ottenendo in seguito un riconoscimento internazionale per la sua versatilità sia nel cinema indipendente sia nelle produzioni mainstream. Ha ricevuto quattro candidature agli Academy Awards e nel 2018 è stato insignito della Coppa Volpi per la Miglior Interpretazione Maschile alla Mostra del Cinema di Venezia. \nIL MESSAGGIO \nIl messaggio verrà reso pubblico il 27 marzo 2026
URL:https://taeteatro.com/evento/giornata-internazionale-del-teatro-27-03-2026/
LOCATION:Casa del Teatro\, Via Marco Polo 34\, Treviglio\, 24047\, Italia
CATEGORIES:Online
ATTACH;FMTTYPE=image/jpeg:https://taeteatro.com/wp-content/uploads/world-theatre-day-purple.jpg
ORGANIZER;CN="TAE Teatro":MAILTO:info@taeteatro.com
END:VEVENT
END:VCALENDAR