BEGIN:VCALENDAR
VERSION:2.0
PRODID:-//TAE Teatro - ECPv6.15.20//NONSGML v1.0//EN
CALSCALE:GREGORIAN
METHOD:PUBLISH
X-WR-CALNAME:TAE Teatro
X-ORIGINAL-URL:https://taeteatro.com
X-WR-CALDESC:Eventi per TAE Teatro
REFRESH-INTERVAL;VALUE=DURATION:PT1H
X-Robots-Tag:noindex
X-PUBLISHED-TTL:PT1H
BEGIN:VTIMEZONE
TZID:Europe/Rome
BEGIN:DAYLIGHT
TZOFFSETFROM:+0100
TZOFFSETTO:+0200
TZNAME:CEST
DTSTART:20250330T010000
END:DAYLIGHT
BEGIN:STANDARD
TZOFFSETFROM:+0200
TZOFFSETTO:+0100
TZNAME:CET
DTSTART:20251026T010000
END:STANDARD
BEGIN:DAYLIGHT
TZOFFSETFROM:+0100
TZOFFSETTO:+0200
TZNAME:CEST
DTSTART:20260329T010000
END:DAYLIGHT
BEGIN:STANDARD
TZOFFSETFROM:+0200
TZOFFSETTO:+0100
TZNAME:CET
DTSTART:20261025T010000
END:STANDARD
BEGIN:DAYLIGHT
TZOFFSETFROM:+0100
TZOFFSETTO:+0200
TZNAME:CEST
DTSTART:20270328T010000
END:DAYLIGHT
BEGIN:STANDARD
TZOFFSETFROM:+0200
TZOFFSETTO:+0100
TZNAME:CET
DTSTART:20271031T010000
END:STANDARD
END:VTIMEZONE
BEGIN:VEVENT
DTSTART;TZID=Europe/Rome:20260606T163000
DTEND;TZID=Europe/Rome:20260606T173000
DTSTAMP:20260421T165359
CREATED:20260331T070401Z
LAST-MODIFIED:20260331T080511Z
UID:10000182-1780763400-1780767000@taeteatro.com
SUMMARY:Peter e i bambini ritrovati
DESCRIPTION:
URL:https://taeteatro.com/evento/peter-e-i-bambini-ritrovati-06-06-2026/
CATEGORIES:Debutti - Saggi di teatro
END:VEVENT
BEGIN:VEVENT
DTSTART;TZID=Europe/Rome:20260606T183000
DTEND;TZID=Europe/Rome:20260606T193000
DTSTAMP:20260421T165359
CREATED:20260331T070251Z
LAST-MODIFIED:20260331T074855Z
UID:10000183-1780770600-1780774200@taeteatro.com
SUMMARY:Optima
DESCRIPTION:
URL:https://taeteatro.com/evento/optima-06-06-2026/
CATEGORIES:Debutti - Saggi di teatro
END:VEVENT
BEGIN:VEVENT
DTSTART;TZID=Europe/Rome:20260607T203000
DTEND;TZID=Europe/Rome:20260607T213000
DTSTAMP:20260421T165359
CREATED:20260331T071157Z
LAST-MODIFIED:20260331T074811Z
UID:10000184-1780864200-1780867800@taeteatro.com
SUMMARY:Viatores
DESCRIPTION:
URL:https://taeteatro.com/evento/viatores-07-06-2026/
CATEGORIES:Debutti - Saggi di teatro
END:VEVENT
BEGIN:VEVENT
DTSTART;TZID=Europe/Rome:20260607T213000
DTEND;TZID=Europe/Rome:20260607T223000
DTSTAMP:20260421T165359
CREATED:20260331T071706Z
LAST-MODIFIED:20260331T074844Z
UID:10000185-1780867800-1780871400@taeteatro.com
SUMMARY:Maldicèrìe
DESCRIPTION:
URL:https://taeteatro.com/evento/maldicerie-07-06-2026/
CATEGORIES:Debutti - Saggi di teatro
END:VEVENT
END:VCALENDAR