BEGIN:VCALENDAR
VERSION:2.0
PRODID:-//TAE Teatro - ECPv6.15.20//NONSGML v1.0//EN
CALSCALE:GREGORIAN
METHOD:PUBLISH
X-ORIGINAL-URL:https://taeteatro.com
X-WR-CALDESC:Eventi per TAE Teatro
REFRESH-INTERVAL;VALUE=DURATION:PT1H
X-Robots-Tag:noindex
X-PUBLISHED-TTL:PT1H
BEGIN:VTIMEZONE
TZID:Europe/Rome
BEGIN:DAYLIGHT
TZOFFSETFROM:+0100
TZOFFSETTO:+0200
TZNAME:CEST
DTSTART:20250330T010000
END:DAYLIGHT
BEGIN:STANDARD
TZOFFSETFROM:+0200
TZOFFSETTO:+0100
TZNAME:CET
DTSTART:20251026T010000
END:STANDARD
BEGIN:DAYLIGHT
TZOFFSETFROM:+0100
TZOFFSETTO:+0200
TZNAME:CEST
DTSTART:20260329T010000
END:DAYLIGHT
BEGIN:STANDARD
TZOFFSETFROM:+0200
TZOFFSETTO:+0100
TZNAME:CET
DTSTART:20261025T010000
END:STANDARD
BEGIN:DAYLIGHT
TZOFFSETFROM:+0100
TZOFFSETTO:+0200
TZNAME:CEST
DTSTART:20270328T010000
END:DAYLIGHT
BEGIN:STANDARD
TZOFFSETFROM:+0200
TZOFFSETTO:+0100
TZNAME:CET
DTSTART:20271031T010000
END:STANDARD
END:VTIMEZONE
BEGIN:VEVENT
DTSTART;TZID=Europe/Rome:20260529T204500
DTEND;TZID=Europe/Rome:20260529T224500
DTSTAMP:20260421T150534
CREATED:20260302T120422Z
LAST-MODIFIED:20260309T094830Z
UID:10000186-1780087500-1780094700@taeteatro.com
SUMMARY:La stazione per ognidove
DESCRIPTION:
URL:https://taeteatro.com/evento/la-stazione-per-ognidove-29-05-2026/
LOCATION:TNT – Teatro Nuovo Treviglio\, Piazza Garibaldi\, Treviglio\, Bergamo\, 24047\, Italia
CATEGORIES:Debutti - Saggi di teatro
ATTACH;FMTTYPE=image/jpeg:https://taeteatro.com/wp-content/uploads/stazione-per-ogni-dove.jpg
ORGANIZER;CN="TAE Teatro":MAILTO:info@taeteatro.com
GEO:45.5210446;9.5919651
X-APPLE-STRUCTURED-LOCATION;VALUE=URI;X-ADDRESS=TNT – Teatro Nuovo Treviglio Piazza Garibaldi Treviglio Bergamo 24047 Italia;X-APPLE-RADIUS=500;X-TITLE=Piazza Garibaldi:geo:9.5919651,45.5210446
END:VEVENT
END:VCALENDAR